BEGIN:VCALENDAR
VERSION:2.0
PRODID:-//SEIU Local 1000 - ECPv6.15.20//NONSGML v1.0//EN
CALSCALE:GREGORIAN
METHOD:PUBLISH
X-ORIGINAL-URL:https://www.seiu1000.org
X-WR-CALDESC:Events for SEIU Local 1000
REFRESH-INTERVAL;VALUE=DURATION:PT1H
X-Robots-Tag:noindex
X-PUBLISHED-TTL:PT1H
BEGIN:VTIMEZONE
TZID:America/Denver
BEGIN:DAYLIGHT
TZOFFSETFROM:-0700
TZOFFSETTO:-0600
TZNAME:MDT
DTSTART:20230312T090000
END:DAYLIGHT
BEGIN:STANDARD
TZOFFSETFROM:-0600
TZOFFSETTO:-0700
TZNAME:MST
DTSTART:20231105T080000
END:STANDARD
BEGIN:DAYLIGHT
TZOFFSETFROM:-0700
TZOFFSETTO:-0600
TZNAME:MDT
DTSTART:20240310T090000
END:DAYLIGHT
BEGIN:STANDARD
TZOFFSETFROM:-0600
TZOFFSETTO:-0700
TZNAME:MST
DTSTART:20241103T080000
END:STANDARD
BEGIN:DAYLIGHT
TZOFFSETFROM:-0700
TZOFFSETTO:-0600
TZNAME:MDT
DTSTART:20250309T090000
END:DAYLIGHT
BEGIN:STANDARD
TZOFFSETFROM:-0600
TZOFFSETTO:-0700
TZNAME:MST
DTSTART:20251102T080000
END:STANDARD
END:VTIMEZONE
BEGIN:VEVENT
DTSTART;TZID=America/Denver:20240905T180000
DTEND;TZID=America/Denver:20240905T193000
DTSTAMP:20260419T103709
CREATED:20240829T183920Z
LAST-MODIFIED:20240829T183920Z
UID:10000053-1725559200-1725564600@www.seiu1000.org
SUMMARY:Monthly Regional Organizing Committee (ROC) meeting
DESCRIPTION:The SEIU LOCAL 1000 Strategic Campaigns Department invites you to the monthly Regional Organizing Committee (ROC) meeting\nThis month’s theme is: Organizing like a Star!\nROC Stars shining at their worksites and growing their Union!\nPolitical Dept Updates and presentation. \nDATE: Thursday\, September 5\, 2024\nTIME: 6:00 p.m. to 7:30 p.m. \nJoin Zoom Meeting https://seiu1000-org.zoom.us/j/85873507586 \nMeeting ID: 858 7350 7586\n—\nOne tap mobile\n+16694449171\,\,85873507586# US\n+16699006833\,\,85873507586# US (San Jose)\n—\nDial by your location\n• +1 669 444 9171 US\n• +1 669 900 6833 US (San Jose)\n• +1 346 248 7799 US (Houston)\n• +1 719 359 4580 US\n• +1 253 205 0468 US\n• +1 253 215 8782 US (Tacoma)\n• +1 309 205 3325 US\n• +1 312 626 6799 US (Chicago)\n• +1 360 209 5623 US\n• +1 386 347 5053 US\n• +1 507 473 4847 US\n• +1 564 217 2000 US\n• +1 646 931 3860 US\n• +1 689 278 1000 US\n• +1 929 205 6099 US (New York)\n• +1 301 715 8592 US (Washington DC)\n• +1 305 224 1968 US \nFind your local number: https://seiu1000-org.zoom.us/u/kw2oByX8G \nMark Your Calendar: Every month on the first Thursday through Dec 5\, 2024. \nOct 3\, 2024\, 05:45 p.m. \nNov 7\, 2024\, 05:45 p.m. \nDec 5\, 2024\, 05:45 p.m. \nPlease download and import the following iCalendar (.ics) files to your calendar system. Monthly: https://seiu1000-org.zoom.us/meeting/tZElcOqtrjwvEtIIr3XgP5hs9Bswoyl27LHy/ics?icsToken=98tyKuGtpjwpH9SStRGBRpwMGo_Cb-_ziGZYj7d0tQ22OydjNwvlb8BRJb1mHIqH
URL:https://www.seiu1000.org/event/monthly-regional-organizing-committee-roc-meeting/
ATTACH;FMTTYPE=image/webp:https://www.seiu1000.org/wp-content/uploads/2023/12/bargaining-unit1.webp
END:VEVENT
END:VCALENDAR