BEGIN:VCALENDAR
VERSION:2.0
PRODID:-//SEIU Local 1000 - ECPv6.15.20//NONSGML v1.0//EN
CALSCALE:GREGORIAN
METHOD:PUBLISH
X-ORIGINAL-URL:https://www.seiu1000.org
X-WR-CALDESC:Events for SEIU Local 1000
REFRESH-INTERVAL;VALUE=DURATION:PT1H
X-Robots-Tag:noindex
X-PUBLISHED-TTL:PT1H
BEGIN:VTIMEZONE
TZID:America/Denver
BEGIN:DAYLIGHT
TZOFFSETFROM:-0700
TZOFFSETTO:-0600
TZNAME:MDT
DTSTART:20230312T090000
END:DAYLIGHT
BEGIN:STANDARD
TZOFFSETFROM:-0600
TZOFFSETTO:-0700
TZNAME:MST
DTSTART:20231105T080000
END:STANDARD
BEGIN:DAYLIGHT
TZOFFSETFROM:-0700
TZOFFSETTO:-0600
TZNAME:MDT
DTSTART:20240310T090000
END:DAYLIGHT
BEGIN:STANDARD
TZOFFSETFROM:-0600
TZOFFSETTO:-0700
TZNAME:MST
DTSTART:20241103T080000
END:STANDARD
BEGIN:DAYLIGHT
TZOFFSETFROM:-0700
TZOFFSETTO:-0600
TZNAME:MDT
DTSTART:20250309T090000
END:DAYLIGHT
BEGIN:STANDARD
TZOFFSETFROM:-0600
TZOFFSETTO:-0700
TZNAME:MST
DTSTART:20251102T080000
END:STANDARD
END:VTIMEZONE
BEGIN:VEVENT
DTSTART;TZID=America/Denver:20240917T050000
DTEND;TZID=America/Denver:20240917T170000
DTSTAMP:20260421T182057
CREATED:20240905T200354Z
LAST-MODIFIED:20240905T200354Z
UID:10000066-1726549200-1726592400@www.seiu1000.org
SUMMARY:DLC 769 - CSP Sacramento - Membership Blitz and Appreciation Days
DESCRIPTION:September 17\, 2024 \n5am-9:30am and 12:30 pm to 5pm \nCSP Sacramento at the A/B Gate \nSwag\, Food\, and Information
URL:https://www.seiu1000.org/event/dlc-769-csp-sacramento-membership-blitz-and-appreciation-days/
ATTACH;FMTTYPE=image/webp:https://www.seiu1000.org/wp-content/uploads/2023/12/bargaining-unit1.webp
END:VEVENT
END:VCALENDAR