BEGIN:VCALENDAR
VERSION:2.0
PRODID:-//SEIU Local 1000 - ECPv6.15.20//NONSGML v1.0//EN
CALSCALE:GREGORIAN
METHOD:PUBLISH
X-WR-CALNAME:SEIU Local 1000
X-ORIGINAL-URL:https://www.seiu1000.org
X-WR-CALDESC:Events for SEIU Local 1000
REFRESH-INTERVAL;VALUE=DURATION:PT1H
X-Robots-Tag:noindex
X-PUBLISHED-TTL:PT1H
BEGIN:VTIMEZONE
TZID:America/Denver
BEGIN:DAYLIGHT
TZOFFSETFROM:-0700
TZOFFSETTO:-0600
TZNAME:MDT
DTSTART:20230312T090000
END:DAYLIGHT
BEGIN:STANDARD
TZOFFSETFROM:-0600
TZOFFSETTO:-0700
TZNAME:MST
DTSTART:20231105T080000
END:STANDARD
BEGIN:DAYLIGHT
TZOFFSETFROM:-0700
TZOFFSETTO:-0600
TZNAME:MDT
DTSTART:20240310T090000
END:DAYLIGHT
BEGIN:STANDARD
TZOFFSETFROM:-0600
TZOFFSETTO:-0700
TZNAME:MST
DTSTART:20241103T080000
END:STANDARD
BEGIN:DAYLIGHT
TZOFFSETFROM:-0700
TZOFFSETTO:-0600
TZNAME:MDT
DTSTART:20250309T090000
END:DAYLIGHT
BEGIN:STANDARD
TZOFFSETFROM:-0600
TZOFFSETTO:-0700
TZNAME:MST
DTSTART:20251102T080000
END:STANDARD
END:VTIMEZONE
BEGIN:VEVENT
DTSTART;VALUE=DATE:20240918
DTEND;VALUE=DATE:20240919
DTSTAMP:20260419T103359
CREATED:20240909T173757Z
LAST-MODIFIED:20240909T173757Z
UID:10000081-1726617600-1726703999@www.seiu1000.org
SUMMARY:DLC 785 and 788 - MEMBER APPRECIATION DAY
DESCRIPTION:
URL:https://www.seiu1000.org/event/dlc-785-and-788-member-appreciation-day-2/
ATTACH;FMTTYPE=image/webp:https://www.seiu1000.org/wp-content/uploads/2023/12/bargaining-unit1.webp
END:VEVENT
BEGIN:VEVENT
DTSTART;TZID=America/Denver:20240918T180000
DTEND;TZID=America/Denver:20240918T193000
DTSTAMP:20260419T103359
CREATED:20240918T235456Z
LAST-MODIFIED:20240918T235456Z
UID:10000083-1726682400-1726687800@www.seiu1000.org
SUMMARY:Regional Organizing Committee (ROC) Meeting
DESCRIPTION:
URL:https://www.seiu1000.org/event/regional-organizing-committee-roc-meeting/
ATTACH;FMTTYPE=image/webp:https://www.seiu1000.org/wp-content/uploads/2023/12/bargaining-unit1.webp
END:VEVENT
BEGIN:VEVENT
DTSTART;TZID=America/Denver:20240918T183000
DTEND;TZID=America/Denver:20240918T203000
DTSTAMP:20260419T103359
CREATED:20240918T234956Z
LAST-MODIFIED:20240918T235257Z
UID:10000082-1726684200-1726691400@www.seiu1000.org
SUMMARY:DLC 741 General Membership Meeting
DESCRIPTION:
URL:https://www.seiu1000.org/event/dlc-741-general-membership-meeting-2/
ATTACH;FMTTYPE=image/webp:https://www.seiu1000.org/wp-content/uploads/2024/07/SEIU1000_sacto_12631-scaled-1.webp
END:VEVENT
END:VCALENDAR