BEGIN:VCALENDAR
VERSION:2.0
PRODID:-//SEIU Local 1000 - ECPv6.15.20//NONSGML v1.0//EN
CALSCALE:GREGORIAN
METHOD:PUBLISH
X-WR-CALNAME:SEIU Local 1000
X-ORIGINAL-URL:https://www.seiu1000.org
X-WR-CALDESC:Events for SEIU Local 1000
REFRESH-INTERVAL;VALUE=DURATION:PT1H
X-Robots-Tag:noindex
X-PUBLISHED-TTL:PT1H
BEGIN:VTIMEZONE
TZID:America/Los_Angeles
BEGIN:DAYLIGHT
TZOFFSETFROM:-0800
TZOFFSETTO:-0700
TZNAME:PDT
DTSTART:20230312T100000
END:DAYLIGHT
BEGIN:STANDARD
TZOFFSETFROM:-0700
TZOFFSETTO:-0800
TZNAME:PST
DTSTART:20231105T090000
END:STANDARD
BEGIN:DAYLIGHT
TZOFFSETFROM:-0800
TZOFFSETTO:-0700
TZNAME:PDT
DTSTART:20240310T100000
END:DAYLIGHT
BEGIN:STANDARD
TZOFFSETFROM:-0700
TZOFFSETTO:-0800
TZNAME:PST
DTSTART:20241103T090000
END:STANDARD
BEGIN:DAYLIGHT
TZOFFSETFROM:-0800
TZOFFSETTO:-0700
TZNAME:PDT
DTSTART:20250309T100000
END:DAYLIGHT
BEGIN:STANDARD
TZOFFSETFROM:-0700
TZOFFSETTO:-0800
TZNAME:PST
DTSTART:20251102T090000
END:STANDARD
END:VTIMEZONE
BEGIN:VEVENT
DTSTART;VALUE=DATE:20240921
DTEND;VALUE=DATE:20240923
DTSTAMP:20260419T103357
CREATED:20240604T003410Z
LAST-MODIFIED:20240604T003410Z
UID:10000008-1726876800-1727049599@www.seiu1000.org
SUMMARY:Board of Directors Meeting September 21\, 2024 - September 22\, 2024
DESCRIPTION:September 21\, 2024 – September 22\, 2024
URL:https://www.seiu1000.org/event/board-of-directors-meeting-september-21-2024-september-22-2024/
CATEGORIES:Board of Directors Meetings
ATTACH;FMTTYPE=image/webp:https://www.seiu1000.org/wp-content/uploads/2023/12/bargaining-unit1.webp
END:VEVENT
END:VCALENDAR