BEGIN:VCALENDAR
VERSION:2.0
PRODID:-//SEIU Local 1000 - ECPv6.15.20//NONSGML v1.0//EN
CALSCALE:GREGORIAN
METHOD:PUBLISH
X-WR-CALNAME:SEIU Local 1000
X-ORIGINAL-URL:https://www.seiu1000.org
X-WR-CALDESC:Events for SEIU Local 1000
REFRESH-INTERVAL;VALUE=DURATION:PT1H
X-Robots-Tag:noindex
X-PUBLISHED-TTL:PT1H
BEGIN:VTIMEZONE
TZID:America/Denver
BEGIN:DAYLIGHT
TZOFFSETFROM:-0700
TZOFFSETTO:-0600
TZNAME:MDT
DTSTART:20240310T090000
END:DAYLIGHT
BEGIN:STANDARD
TZOFFSETFROM:-0600
TZOFFSETTO:-0700
TZNAME:MST
DTSTART:20241103T080000
END:STANDARD
BEGIN:DAYLIGHT
TZOFFSETFROM:-0700
TZOFFSETTO:-0600
TZNAME:MDT
DTSTART:20250309T090000
END:DAYLIGHT
BEGIN:STANDARD
TZOFFSETFROM:-0600
TZOFFSETTO:-0700
TZNAME:MST
DTSTART:20251102T080000
END:STANDARD
BEGIN:DAYLIGHT
TZOFFSETFROM:-0700
TZOFFSETTO:-0600
TZNAME:MDT
DTSTART:20260308T090000
END:DAYLIGHT
BEGIN:STANDARD
TZOFFSETFROM:-0600
TZOFFSETTO:-0700
TZNAME:MST
DTSTART:20261101T080000
END:STANDARD
END:VTIMEZONE
BEGIN:VEVENT
DTSTART;TZID=America/Denver:20250220T110000
DTEND;TZID=America/Denver:20250220T133000
DTSTAMP:20260425T072516
CREATED:20250212T012710Z
LAST-MODIFIED:20250212T230803Z
UID:10000976-1740049200-1740058200@www.seiu1000.org
SUMMARY:Join SEIU Local 1000 DLC 704 at the San Bernardino DMV on Feb. 20!
DESCRIPTION:It’s time to come together and build power for a stronger future! Join SEIU Local 1000 for an exciting in-person event where you’ll connect with fellow members\, enjoy a free lunch and learn about ongoing union priorities including the Fight for 4% pay increase in July and more! \nDate:\nThursday\, February 20\, 2025 \nTime:\n11:00 AM -1:30 PM \nLocation: \nSan Bernardino – DMV \n1310 N Waterman\, San Bernardino\, CA. \n\nAbout DLC 704\nAs part of SEIU Local 1000\, members of DLC 704 stand together to represent 96\,000 state employees. We prioritize the protection of our rights and the improvement of our wages\, benefits\, and working conditions. Your active participation in your DLC ensures your voice is not just heard\, but respected \nWe look forward to seeing you soon!
URL:https://www.seiu1000.org/event/join-seiu-local-1000-dlc-704-at-the-san-bernardino-dmv-on-feb-20/
ATTACH;FMTTYPE=image/webp:https://www.seiu1000.org/wp-content/uploads/2023/12/bargaining-unit1.webp
END:VEVENT
BEGIN:VEVENT
DTSTART;TZID=America/Denver:20250220T113000
DTEND;TZID=America/Denver:20250220T130000
DTSTAMP:20260425T072516
CREATED:20250206T210051Z
LAST-MODIFIED:20250206T210328Z
UID:10000963-1740051000-1740056400@www.seiu1000.org
SUMMARY:DLC 786 Franchise Tax Board Membership Meetings
DESCRIPTION:MONTH\nEDUCATIONAL SUBJECT\nDATES\nTIMES \nCONFIRM QUARDINATES\n\n\nFebruary\n4% Raises\n12th\n11:30-1:00pm\nSan Francisco Building: Alameda Conference Room B (SF-1C-A91)\n\n\nFebruary\n4% Raises\n20th\n11:30-1:00pm\nSacramento Building: Freeport Conference Room B (SA-1C-A-91)\n\n\nFebruary\n4% Raises\n25th\n11:30-1:00pm\nLos Angeles Building: Malibu Conference Room (LAID-A12B-01)\n\n\nMarch\nBullying\n4th\n11:30-1:00pm\nSacramento Building: Freeport Conference Room B (SA-1C-A-91)\n\n\nMarch\nBullying\n12th\n11:30-1:00 pm\nSan Francisco Building: Alameda Conference Room B (SF-1C-A91)\n\n\nMarch\nBullying\n20th\n11:30-1:00pm\nLos Angeles Building: Malibu Conference Room (LAID-A12B-01)\n\n\nMarch\nBullying\n25th\n11:30-1:00 pm\nSacramento Building: Freeport Conference Room B (SA-1C-A-91)\n\n\nApril\nCalPERS Retirement\n3rd\n11:30-1:00pm\nGolden State Room A and B Town Center\n\n\nApril 30th\nHealth Fair\n30th\n11:301:00pm\nTBD (Front Courtyard of the Town Center)
URL:https://www.seiu1000.org/event/dlc-786-franchise-tax-board-membership-meetings/2025-02-20/
ATTACH;FMTTYPE=image/webp:https://www.seiu1000.org/wp-content/uploads/2023/12/bargaining-unit1.webp
END:VEVENT
BEGIN:VEVENT
DTSTART;TZID=America/Denver:20250220T180000
DTEND;TZID=America/Denver:20250220T200000
DTSTAMP:20260425T072516
CREATED:20250204T211138Z
LAST-MODIFIED:20250915T155619Z
UID:10000952-1740074400-1740081600@www.seiu1000.org
SUMMARY:2025 Steward Trainings
DESCRIPTION:February 20\, 2025.\nTraining topic: Legal Rights of Stewards \n\n\nMarch 20\, 2025.\nTraining topic: Retaliation for Union Activity \n\n\nApril 17\, 2025.\nTraining Topic: Adverse Actions Part 1: Hearing Your Member \n\n\nMay 15\, 2025.\nTraining topic: Adverse Actions Part 2: Skelly Hearing Preparation \n\n\nJune 19\, 2025\nTraining topic: COPE \n\n\nJuly 17\, 2025.\nTraining topic: Empowered Sick Leave Advocacy\nRegister here \n\n\nAugust 21\, 2025.\nTraining topic: Communicating Union Wins and Losses\nRegister here \n\n\nSeptember 18\, 2025.\nTraining topic: Mobilizing Members for Action\nRegister here \n\n\nOctober 16\, 2025.\nTraining topic: Digital Organizing: Leveraging Technology for Collective Action\nRegister here \n\n\nNovember 20\, 2025.\nTraining topic: Dignity in Dialogue: Leading Against Workplace Bullying\nRegister here \n\n\nDecember 18\, 2025.\nTraining topic: Mobilizing Members for Action\nRegister here \nFor any questions or concerns\, please email us at scr@local1000.org.
URL:https://www.seiu1000.org/event/2025-steward-trainings-2/2025-02-20/
ATTACH;FMTTYPE=image/png:https://www.seiu1000.org/wp-content/uploads/2025/02/2025-Steward-Trainings-Featured-Image-1024-x-400-px.png
END:VEVENT
END:VCALENDAR