BEGIN:VCALENDAR
VERSION:2.0
PRODID:-//SEIU Local 1000 - ECPv6.15.20//NONSGML v1.0//EN
CALSCALE:GREGORIAN
METHOD:PUBLISH
X-WR-CALNAME:SEIU Local 1000
X-ORIGINAL-URL:https://www.seiu1000.org
X-WR-CALDESC:Events for SEIU Local 1000
REFRESH-INTERVAL;VALUE=DURATION:PT1H
X-Robots-Tag:noindex
X-PUBLISHED-TTL:PT1H
BEGIN:VTIMEZONE
TZID:America/Los_Angeles
BEGIN:DAYLIGHT
TZOFFSETFROM:-0800
TZOFFSETTO:-0700
TZNAME:PDT
DTSTART:20240310T100000
END:DAYLIGHT
BEGIN:STANDARD
TZOFFSETFROM:-0700
TZOFFSETTO:-0800
TZNAME:PST
DTSTART:20241103T090000
END:STANDARD
BEGIN:DAYLIGHT
TZOFFSETFROM:-0800
TZOFFSETTO:-0700
TZNAME:PDT
DTSTART:20250309T100000
END:DAYLIGHT
BEGIN:STANDARD
TZOFFSETFROM:-0700
TZOFFSETTO:-0800
TZNAME:PST
DTSTART:20251102T090000
END:STANDARD
BEGIN:DAYLIGHT
TZOFFSETFROM:-0800
TZOFFSETTO:-0700
TZNAME:PDT
DTSTART:20260308T100000
END:DAYLIGHT
BEGIN:STANDARD
TZOFFSETFROM:-0700
TZOFFSETTO:-0800
TZNAME:PST
DTSTART:20261101T090000
END:STANDARD
END:VTIMEZONE
BEGIN:VEVENT
DTSTART;TZID=America/Los_Angeles:20250723T113000
DTEND;TZID=America/Los_Angeles:20250723T133000
DTSTAMP:20260421T184157
CREATED:20250718T221844Z
LAST-MODIFIED:20250718T221844Z
UID:10001197-1753270200-1753277400@www.seiu1000.org
SUMMARY:DLC 790 Ice Cream Social – July 23
DESCRIPTION:Join SEIU Local 1000 for our DLC 790 Ice Cream Social\, a great opportunity to connect with your coworkers\, meet your leadership team\, and learn more about how we can build power together for a stronger future! \n📅 Date: Wednesday\, July 23\, 2025\n⏰ Time: 11:30 AM – 1:30 PM\n📍 Location: 10391 Peter Maccuen Blvd\, Building F – Training Room 1049 \nEnjoy ice cream\, good conversation\, and important discussions\, including:\n🍦 The importance of union membership\n🍦 Latest side letter updates\n🍦 Actions we can take together to make a difference \nBring your questions\, your ideas\, and your appetite! \nPlease RSVP by July 18 by emailing: Ashley.Murphy@caloes.ca.gov  \nClick here to download the flyer for this event. \nWe hope to see you there! \nIn solidarity\,\nSEIU Local 1000 – DLC 790
URL:https://www.seiu1000.org/event/dlc-790-ice-cream-social-july-23/
ATTACH;FMTTYPE=image/webp:https://www.seiu1000.org/wp-content/uploads/2023/12/bargaining-unit1.webp
END:VEVENT
BEGIN:VEVENT
DTSTART;TZID=America/Los_Angeles:20250723T120000
DTEND;TZID=America/Los_Angeles:20250723T130000
DTSTAMP:20260421T184157
CREATED:20250723T154436Z
LAST-MODIFIED:20250723T154608Z
UID:10001198-1753272000-1753275600@www.seiu1000.org
SUMMARY:DLC 782 Weekly Purple Up Solidarity Breaks & Steward Office Hours
DESCRIPTION:JOIN DLC 782 every Wednesday during lunch for our Purple Up Solidarity Break to learn\, share\, and connect with your fellow coworkers. \nWhether you are new to our union or a long-time member\, this is our space to grow stronger. Let’s build our collective power together now. \nJoin Us! \nClick Here for the Zoom Link \n 
URL:https://www.seiu1000.org/event/dlc-782-weekly-purple-up-solidarity-breaks-steward-office-hours/2025-07-23/
ATTACH;FMTTYPE=image/jpeg:https://www.seiu1000.org/wp-content/uploads/2025/07/DLC-782-Wednesday-Flyer.jpeg
END:VEVENT
END:VCALENDAR