BEGIN:VCALENDAR
VERSION:2.0
PRODID:-//SEIU Local 1000 - ECPv6.15.20//NONSGML v1.0//EN
CALSCALE:GREGORIAN
METHOD:PUBLISH
X-ORIGINAL-URL:https://www.seiu1000.org
X-WR-CALDESC:Events for SEIU Local 1000
REFRESH-INTERVAL;VALUE=DURATION:PT1H
X-Robots-Tag:noindex
X-PUBLISHED-TTL:PT1H
BEGIN:VTIMEZONE
TZID:America/Los_Angeles
BEGIN:DAYLIGHT
TZOFFSETFROM:-0800
TZOFFSETTO:-0700
TZNAME:PDT
DTSTART:20240310T100000
END:DAYLIGHT
BEGIN:STANDARD
TZOFFSETFROM:-0700
TZOFFSETTO:-0800
TZNAME:PST
DTSTART:20241103T090000
END:STANDARD
BEGIN:DAYLIGHT
TZOFFSETFROM:-0800
TZOFFSETTO:-0700
TZNAME:PDT
DTSTART:20250309T100000
END:DAYLIGHT
BEGIN:STANDARD
TZOFFSETFROM:-0700
TZOFFSETTO:-0800
TZNAME:PST
DTSTART:20251102T090000
END:STANDARD
BEGIN:DAYLIGHT
TZOFFSETFROM:-0800
TZOFFSETTO:-0700
TZNAME:PDT
DTSTART:20260308T100000
END:DAYLIGHT
BEGIN:STANDARD
TZOFFSETFROM:-0700
TZOFFSETTO:-0800
TZNAME:PST
DTSTART:20261101T090000
END:STANDARD
END:VTIMEZONE
BEGIN:VTIMEZONE
TZID:America/Denver
BEGIN:DAYLIGHT
TZOFFSETFROM:-0700
TZOFFSETTO:-0600
TZNAME:MDT
DTSTART:20240310T090000
END:DAYLIGHT
BEGIN:STANDARD
TZOFFSETFROM:-0600
TZOFFSETTO:-0700
TZNAME:MST
DTSTART:20241103T080000
END:STANDARD
BEGIN:DAYLIGHT
TZOFFSETFROM:-0700
TZOFFSETTO:-0600
TZNAME:MDT
DTSTART:20250309T090000
END:DAYLIGHT
BEGIN:STANDARD
TZOFFSETFROM:-0600
TZOFFSETTO:-0700
TZNAME:MST
DTSTART:20251102T080000
END:STANDARD
BEGIN:DAYLIGHT
TZOFFSETFROM:-0700
TZOFFSETTO:-0600
TZNAME:MDT
DTSTART:20260308T090000
END:DAYLIGHT
BEGIN:STANDARD
TZOFFSETFROM:-0600
TZOFFSETTO:-0700
TZNAME:MST
DTSTART:20261101T080000
END:STANDARD
END:VTIMEZONE
BEGIN:VEVENT
DTSTART;TZID=America/Los_Angeles:20250805T080000
DTEND;TZID=America/Los_Angeles:20250805T123000
DTSTAMP:20260419T103042
CREATED:20250731T232145Z
LAST-MODIFIED:20250731T232145Z
UID:10001221-1754380800-1754397000@www.seiu1000.org
SUMMARY:DLC 744 UNION TABLING
DESCRIPTION:Our contract expires on June 30\, 2026.  A fair living wage and telework are among the top bargaining priorities. Help our union get stronger for the tough fight ahead. Join our union if you haven’t already! \nDrop by our table to learn more about the side letter agreement our Union has reached with the state. It protects our raise\, pauses the return-to-office order\, and preserves our right to bargain again in 2026. \nAlso\, learn more about the governor’s forum on August 16\, where you can hear from candidates for CA governor and may have a chance to ask questions and make your voice heard! \n\n\n\n\n\n\n\n\n\n\n\n\nEvent Details: \n🗓️ Date: Tuesday\, August 5\, 2025 \n⏰ Time: 8:00 a.m. – 12:30 p.m. \n📍 Where: 1515 Clay St. ( First Floor\, Lobby)
URL:https://www.seiu1000.org/event/dlc-744-union-tabling-2/
ATTACH;FMTTYPE=image/webp:https://www.seiu1000.org/wp-content/uploads/2023/12/bargaining-unit1.webp
END:VEVENT
BEGIN:VEVENT
DTSTART;TZID=America/Denver:20250805T190000
DTEND;TZID=America/Denver:20250805T200000
DTSTAMP:20260419T103042
CREATED:20250530T190432Z
LAST-MODIFIED:20250707T215819Z
UID:10000574-1754420400-1754424000@www.seiu1000.org
SUMMARY:Weekly Stewards Call - (Except 2nd Tuesday of each Month - Join the Ask the Officers Call)
DESCRIPTION:Join the Steward’s the first\, third\, and fourth Tuesday of each month at 7:00 p.m.\, and be sure to encourage ALL of your fellow stewards to join us. On the second week Join the Ask the Officers Call \n\nWe also encourage all stewards to take advantage of our newly launched “Empower U”. \nEmpower U is a flexible\, on-demand platform that allows you to learn at your own pace. Each course\, from grievance handling to organizing conversations\, is designed for steward leadership. You’ll find resources\, practical tools\, and Steward certification opportunities to help you stay informed and effective. \nGetting Started with Empower U \nTo help you begin\, we’ve attached a Getting Started How To Guide that outlines each step for accessing and navigating the platform. Here’s a quick overview: \n\nAccess the Platform: Go to https://learning.seiu1000.org/login/index.php and log in using SEIU SSO.\nExplore Courses: Select a category and course that interests you\, review objectives\, and dive into the materials.\nComplete the Quiz & Survey: Each course includes a quiz and an evaluation survey to ensure you gain full credit for completion.\n\nTake a look at the attached guide for a step-by-step walk-through! \n\n\n\n\n\nAdditional Resources for Stewards:  \n\nStewardCall@seiu1000.org: We’re always monitoring this inbox for any questions or concerns. Feel free to reach out!\nSCR@seiu1000.org: Direct your questions regarding steward training credits (e.g.\, AST\, MOU\, NEO) to this address.\nab119@seiu1000.org: This email is for stewards to report departments’ non-compliance with New Employee Orientations (NEOs).\nAsktheofficers@seiu1000.org: Use this email for any questions directed to the union officers.\nWebmaster@seiu1000.org: For any website-related issues\, reach out to this address.\n\nIf you have members interested in becoming a steward\, direct them to the SEIU Local 1000 LAPS application to fill out the required documents. For any questions or concerns\, please email Bobby Roy at broy@seiu1000.org \nLet’s continue to stand strong together.
URL:https://www.seiu1000.org/event/weekly-steward-call-3/2025-08-05/
ATTACH;FMTTYPE=image/webp:https://www.seiu1000.org/wp-content/uploads/2023/12/bargaining-unit1.webp
END:VEVENT
END:VCALENDAR