BEGIN:VCALENDAR
VERSION:2.0
PRODID:-//SEIU Local 1000 - ECPv6.15.20//NONSGML v1.0//EN
CALSCALE:GREGORIAN
METHOD:PUBLISH
X-ORIGINAL-URL:https://www.seiu1000.org
X-WR-CALDESC:Events for SEIU Local 1000
REFRESH-INTERVAL;VALUE=DURATION:PT1H
X-Robots-Tag:noindex
X-PUBLISHED-TTL:PT1H
BEGIN:VTIMEZONE
TZID:America/Los_Angeles
BEGIN:DAYLIGHT
TZOFFSETFROM:-0800
TZOFFSETTO:-0700
TZNAME:PDT
DTSTART:20240310T100000
END:DAYLIGHT
BEGIN:STANDARD
TZOFFSETFROM:-0700
TZOFFSETTO:-0800
TZNAME:PST
DTSTART:20241103T090000
END:STANDARD
BEGIN:DAYLIGHT
TZOFFSETFROM:-0800
TZOFFSETTO:-0700
TZNAME:PDT
DTSTART:20250309T100000
END:DAYLIGHT
BEGIN:STANDARD
TZOFFSETFROM:-0700
TZOFFSETTO:-0800
TZNAME:PST
DTSTART:20251102T090000
END:STANDARD
BEGIN:DAYLIGHT
TZOFFSETFROM:-0800
TZOFFSETTO:-0700
TZNAME:PDT
DTSTART:20260308T100000
END:DAYLIGHT
BEGIN:STANDARD
TZOFFSETFROM:-0700
TZOFFSETTO:-0800
TZNAME:PST
DTSTART:20261101T090000
END:STANDARD
END:VTIMEZONE
BEGIN:VEVENT
DTSTART;TZID=America/Los_Angeles:20250816T103000
DTEND;TZID=America/Los_Angeles:20250816T150000
DTSTAMP:20260419T102620
CREATED:20250707T204821Z
LAST-MODIFIED:20250707T205423Z
UID:10001178-1755340200-1755356400@www.seiu1000.org
SUMMARY:Governor's Forum
DESCRIPTION:Join us for a special Governor’s Forum\, where candidates for governor of California will speak about their vision for the state and discuss the topics that matter most to YOU. \nThis is your opportunity to hear directly from 2026 gubernatorial candidates about the issues that impact your work\, your livelihood\, and your future. Even more importantly\, you may have the chance to ask questions and make your voice heard. \nDon’t miss your chance to engage with the people who want to lead our state and to ensure they understand the realities and needs of state employees. \nDetails: https://www.seiu1000.org/govforum/
URL:https://www.seiu1000.org/event/governors-forum/
ATTACH;FMTTYPE=image/webp:https://www.seiu1000.org/wp-content/uploads/2023/12/bargaining-unit1.webp
END:VEVENT
END:VCALENDAR