BEGIN:VCALENDAR
VERSION:2.0
PRODID:-//SEIU Local 1000 - ECPv6.15.20//NONSGML v1.0//EN
CALSCALE:GREGORIAN
METHOD:PUBLISH
X-WR-CALNAME:SEIU Local 1000
X-ORIGINAL-URL:https://www.seiu1000.org
X-WR-CALDESC:Events for SEIU Local 1000
REFRESH-INTERVAL;VALUE=DURATION:PT1H
X-Robots-Tag:noindex
X-PUBLISHED-TTL:PT1H
BEGIN:VTIMEZONE
TZID:America/Los_Angeles
BEGIN:DAYLIGHT
TZOFFSETFROM:-0800
TZOFFSETTO:-0700
TZNAME:PDT
DTSTART:20240310T100000
END:DAYLIGHT
BEGIN:STANDARD
TZOFFSETFROM:-0700
TZOFFSETTO:-0800
TZNAME:PST
DTSTART:20241103T090000
END:STANDARD
BEGIN:DAYLIGHT
TZOFFSETFROM:-0800
TZOFFSETTO:-0700
TZNAME:PDT
DTSTART:20250309T100000
END:DAYLIGHT
BEGIN:STANDARD
TZOFFSETFROM:-0700
TZOFFSETTO:-0800
TZNAME:PST
DTSTART:20251102T090000
END:STANDARD
BEGIN:DAYLIGHT
TZOFFSETFROM:-0800
TZOFFSETTO:-0700
TZNAME:PDT
DTSTART:20260308T100000
END:DAYLIGHT
BEGIN:STANDARD
TZOFFSETFROM:-0700
TZOFFSETTO:-0800
TZNAME:PST
DTSTART:20261101T090000
END:STANDARD
END:VTIMEZONE
BEGIN:VTIMEZONE
TZID:America/Denver
BEGIN:DAYLIGHT
TZOFFSETFROM:-0700
TZOFFSETTO:-0600
TZNAME:MDT
DTSTART:20240310T090000
END:DAYLIGHT
BEGIN:STANDARD
TZOFFSETFROM:-0600
TZOFFSETTO:-0700
TZNAME:MST
DTSTART:20241103T080000
END:STANDARD
BEGIN:DAYLIGHT
TZOFFSETFROM:-0700
TZOFFSETTO:-0600
TZNAME:MDT
DTSTART:20250309T090000
END:DAYLIGHT
BEGIN:STANDARD
TZOFFSETFROM:-0600
TZOFFSETTO:-0700
TZNAME:MST
DTSTART:20251102T080000
END:STANDARD
BEGIN:DAYLIGHT
TZOFFSETFROM:-0700
TZOFFSETTO:-0600
TZNAME:MDT
DTSTART:20260308T090000
END:DAYLIGHT
BEGIN:STANDARD
TZOFFSETFROM:-0600
TZOFFSETTO:-0700
TZNAME:MST
DTSTART:20261101T080000
END:STANDARD
END:VTIMEZONE
BEGIN:VEVENT
DTSTART;TZID=America/Los_Angeles:20250917T120000
DTEND;TZID=America/Los_Angeles:20250917T130000
DTSTAMP:20260422T010601
CREATED:20250723T154436Z
LAST-MODIFIED:20250723T154608Z
UID:10001206-1758110400-1758114000@www.seiu1000.org
SUMMARY:DLC 782 Weekly Purple Up Solidarity Breaks & Steward Office Hours
DESCRIPTION:JOIN DLC 782 every Wednesday during lunch for our Purple Up Solidarity Break to learn\, share\, and connect with your fellow coworkers. \nWhether you are new to our union or a long-time member\, this is our space to grow stronger. Let’s build our collective power together now. \nJoin Us! \nClick Here for the Zoom Link \n 
URL:https://www.seiu1000.org/event/dlc-782-weekly-purple-up-solidarity-breaks-steward-office-hours/2025-09-17/
ATTACH;FMTTYPE=image/jpeg:https://www.seiu1000.org/wp-content/uploads/2025/07/DLC-782-Wednesday-Flyer.jpeg
END:VEVENT
BEGIN:VEVENT
DTSTART;TZID=America/Denver:20250917T180000
DTEND;TZID=America/Denver:20250917T193000
DTSTAMP:20260422T010601
CREATED:20241214T012329Z
LAST-MODIFIED:20241214T012329Z
UID:10000819-1758132000-1758137400@www.seiu1000.org
SUMMARY:DLC 790 E-Board Meeting ( Virtual – Zoom/In Person )
DESCRIPTION:If you have any questions or concerns\, please email DLC 790 President Irene Green at ireneseiu1000@gmail.com
URL:https://www.seiu1000.org/event/dlc-790-e-board-meeting-virtual-zoom-in-person/2025-09-17/
ATTACH;FMTTYPE=image/webp:https://www.seiu1000.org/wp-content/uploads/2023/12/bargaining-unit1.webp
END:VEVENT
BEGIN:VEVENT
DTSTART;TZID=America/Los_Angeles:20250917T183000
DTEND;TZID=America/Los_Angeles:20250917T203000
DTSTAMP:20260422T010601
CREATED:20250403T161233Z
LAST-MODIFIED:20251001T174648Z
UID:10001268-1758133800-1758141000@www.seiu1000.org
SUMMARY:DLC 741 General Membership Meeting
DESCRIPTION:General Membership Meetings\n(Open to ALL Members represented in DLC 741)\nBeginning Jan. 15th\, through Dec. 17th 2025 (Occurrences:  12) on the 3rd Wednesday of the month\, \nZoom Registration Link \nStart Time @ 06:30 PM – 08:30 PM\nZoom Meeting ID: 870 2190 7677 \nRegister in advance to attend the General Membership meetings online using the following \nIn-person meetings\nThe location to attend in person will be at the following address: \nThe Pizza Factory \n926 S. Main St. \nSalinas\, Ca. 93901 \nWebsite: pizzafactory.com/southsalinas \nPh: 1-831-758-3227 \nHope to see you there!
URL:https://www.seiu1000.org/event/dlc-741-general-membership-meeting-3/2025-09-17/
CATEGORIES:Union Meeting
ATTACH;FMTTYPE=image/webp:https://www.seiu1000.org/wp-content/uploads/2023/12/bargaining-unit1.webp
END:VEVENT
END:VCALENDAR