BEGIN:VCALENDAR
VERSION:2.0
PRODID:-//SEIU Local 1000 - ECPv6.15.20//NONSGML v1.0//EN
CALSCALE:GREGORIAN
METHOD:PUBLISH
X-WR-CALNAME:SEIU Local 1000
X-ORIGINAL-URL:https://www.seiu1000.org
X-WR-CALDESC:Events for SEIU Local 1000
REFRESH-INTERVAL;VALUE=DURATION:PT1H
X-Robots-Tag:noindex
X-PUBLISHED-TTL:PT1H
BEGIN:VTIMEZONE
TZID:America/Los_Angeles
BEGIN:DAYLIGHT
TZOFFSETFROM:-0800
TZOFFSETTO:-0700
TZNAME:PDT
DTSTART:20250309T100000
END:DAYLIGHT
BEGIN:STANDARD
TZOFFSETFROM:-0700
TZOFFSETTO:-0800
TZNAME:PST
DTSTART:20251102T090000
END:STANDARD
BEGIN:DAYLIGHT
TZOFFSETFROM:-0800
TZOFFSETTO:-0700
TZNAME:PDT
DTSTART:20260308T100000
END:DAYLIGHT
BEGIN:STANDARD
TZOFFSETFROM:-0700
TZOFFSETTO:-0800
TZNAME:PST
DTSTART:20261101T090000
END:STANDARD
BEGIN:DAYLIGHT
TZOFFSETFROM:-0800
TZOFFSETTO:-0700
TZNAME:PDT
DTSTART:20270314T100000
END:DAYLIGHT
BEGIN:STANDARD
TZOFFSETFROM:-0700
TZOFFSETTO:-0800
TZNAME:PST
DTSTART:20271107T090000
END:STANDARD
END:VTIMEZONE
BEGIN:VEVENT
DTSTART;TZID=America/Los_Angeles:20260413T100000
DTEND;TZID=America/Los_Angeles:20260417T170000
DTSTAMP:20260421T172448
CREATED:20260409T195418Z
LAST-MODIFIED:20260409T195418Z
UID:10001765-1776074400-1776445200@www.seiu1000.org
SUMMARY:Pick Up a FREE T-Shirt!
DESCRIPTION:👕 Throughout the week of April 13-17\, we invite you to stop by your nearest SEIU Local 1000 office from 10 AM to 5 PM to pick up your FREE Contract Campaign t-shirt! Purple up on Wednesdays and show your solidarity by wearing our t-shirts to events! \nStop by at any of our offices: \n\nSacramento: 1808 14th Street\, Sacramento\, CA 95811\nOakland: 436 14th Street\, Suite 200\, Oakland\, CA 94612\nFresno: 6725 N. Willow Avenue\, Suite 101\, Fresno\, CA 93710\nOntario: 1801 Excise Avenue\, Suite 101\, Ontario\, CA 91761\nNorwalk: 12501 Imperial Highway\, Suite 510\, Norwalk\, CA 90650\nSan Diego: 4004 Kearney Mesa Road\, San Diego\, CA 92111
URL:https://www.seiu1000.org/event/pick-up-a-free-t-shirt/
ATTACH;FMTTYPE=image/jpeg:https://www.seiu1000.org/wp-content/uploads/2026/04/DSC_5676-scaled.jpg
END:VEVENT
BEGIN:VEVENT
DTSTART;TZID=America/Los_Angeles:20260415T110000
DTEND;TZID=America/Los_Angeles:20260415T130000
DTSTAMP:20260421T172448
CREATED:20260312T223505Z
LAST-MODIFIED:20260312T224827Z
UID:10001706-1776250800-1776258000@www.seiu1000.org
SUMMARY:DLC 781 Monthly Union Meetings
DESCRIPTION:You’re invited to attend our monthly SEIU Local 1000 union meetings for DLC 781. These meetings are a great opportunity to get the latest contract bargaining updates\, connect with fellow state workers\, and learn how we’re fighting together for raises\, benefits\, and telework protections. \nLunch will be provided (RSVP required). The more employees who RSVP\, the better the lunch! \n\n	Notice: JavaScript is required for this content.\n\n\n    \n\n\n        \n        \n        \nWe hope to see you there as we continue to build member power and win a strong contract together. \nIf you have questions\, please contact: Azura Haley at ahaley@seiu1000.org \nIn Solidarity\nRamona Cramer\nDLC 781\, SEIU Local 1000
URL:https://www.seiu1000.org/event/dlc-781-monthly-union-meetings-2/2026-04-15/
ATTACH;FMTTYPE=image/webp:https://www.seiu1000.org/wp-content/uploads/2023/12/bargaining-unit1.webp
END:VEVENT
BEGIN:VEVENT
DTSTART;TZID=America/Los_Angeles:20260415T120000
DTEND;TZID=America/Los_Angeles:20260415T130000
DTSTAMP:20260421T172448
CREATED:20260221T001709Z
LAST-MODIFIED:20260221T001757Z
UID:10001637-1776254400-1776258000@www.seiu1000.org
SUMMARY:DLC 782 Purple Up Solidarity Breaks & Steward Office Hours
DESCRIPTION:Join DLC 782 every Wednesday during lunch for virtual Purple Up Solidarity Breaks to learn\, share\, and connect with fellow workers. \nPURPLE UP SOLIDARITY BREAKS\nWhen: Every Wednesday from 12:00-12:30 PM (see below for Zoom info)\n• Short presentation & open discussion\n• Open to ALL workers (members and non-members) & no experience required \nSTEWARD OFFICE HOURS\nWhen: Every Wednesday from 12:30-1:00 PM (see below for Zoom info)\n• Drop in anytime to get support from union stewards\n• Ask questions & get help with finding and accessing resources \nZOOM INFO\nLink: https://tinyurl.com/seiu1000dlc782purpleup\n(password: purpleup) \nWhether you are new to unions or a longtime member\, this is our space to grow stronger together. Let’s build our collective power NOW to be UNITED and STRONG when our contract campaign kicks off in early 2026. Together we will win! \nEmail seiu1000dlc782@gmail.com with any questions
URL:https://www.seiu1000.org/event/dlc-782-purple-up-wednesdays/2026-04-15/
ATTACH;FMTTYPE=image/png:https://www.seiu1000.org/wp-content/uploads/2026/02/2025_DLC-782_PurpleUp_Banner.png
LOCATION:
END:VEVENT
BEGIN:VEVENT
DTSTART;TZID=America/Los_Angeles:20260415T183000
DTEND;TZID=America/Los_Angeles:20260415T203000
DTSTAMP:20260421T172448
CREATED:20260115T210045Z
LAST-MODIFIED:20260115T210045Z
UID:10001315-1776277800-1776285000@www.seiu1000.org
SUMMARY:DLC 741 General Membership Meeting
DESCRIPTION:Join DLC 741 at our monthly General Membership Meeting! \nThis hybrid meeting will be held in-person at the Pizza Factory and on Zoom from 18:30 – 20:30 on the Third Thursday of every Month. \nThis meeting is open to ALL MEMBERS of our DLC. \nClick here to register on Zoom!
URL:https://www.seiu1000.org/event/dlc-741-general-membership-meeting-4/2026-04-15/
LOCATION:The Pizza Factory\, 926 S. Main St.\, Salinas\, CA\, 93901\, United States
CATEGORIES:Union Meeting
ATTACH;FMTTYPE=image/png:https://www.seiu1000.org/wp-content/uploads/2026/01/DLC-741-General-Membership-Meeting.png
END:VEVENT
END:VCALENDAR