BEGIN:VCALENDAR
VERSION:2.0
PRODID:-//SEIU Local 1000 - ECPv6.15.20//NONSGML v1.0//EN
CALSCALE:GREGORIAN
METHOD:PUBLISH
X-WR-CALNAME:SEIU Local 1000
X-ORIGINAL-URL:https://www.seiu1000.org
X-WR-CALDESC:Events for SEIU Local 1000
REFRESH-INTERVAL;VALUE=DURATION:PT1H
X-Robots-Tag:noindex
X-PUBLISHED-TTL:PT1H
BEGIN:VTIMEZONE
TZID:America/Los_Angeles
BEGIN:DAYLIGHT
TZOFFSETFROM:-0800
TZOFFSETTO:-0700
TZNAME:PDT
DTSTART:20250309T100000
END:DAYLIGHT
BEGIN:STANDARD
TZOFFSETFROM:-0700
TZOFFSETTO:-0800
TZNAME:PST
DTSTART:20251102T090000
END:STANDARD
BEGIN:DAYLIGHT
TZOFFSETFROM:-0800
TZOFFSETTO:-0700
TZNAME:PDT
DTSTART:20260308T100000
END:DAYLIGHT
BEGIN:STANDARD
TZOFFSETFROM:-0700
TZOFFSETTO:-0800
TZNAME:PST
DTSTART:20261101T090000
END:STANDARD
BEGIN:DAYLIGHT
TZOFFSETFROM:-0800
TZOFFSETTO:-0700
TZNAME:PDT
DTSTART:20270314T100000
END:DAYLIGHT
BEGIN:STANDARD
TZOFFSETFROM:-0700
TZOFFSETTO:-0800
TZNAME:PST
DTSTART:20271107T090000
END:STANDARD
END:VTIMEZONE
BEGIN:VEVENT
DTSTART;TZID=America/Los_Angeles:20260413T100000
DTEND;TZID=America/Los_Angeles:20260417T170000
DTSTAMP:20260422T054240
CREATED:20260409T195418Z
LAST-MODIFIED:20260409T195418Z
UID:10001765-1776074400-1776445200@www.seiu1000.org
SUMMARY:Pick Up a FREE T-Shirt!
DESCRIPTION:👕 Throughout the week of April 13-17\, we invite you to stop by your nearest SEIU Local 1000 office from 10 AM to 5 PM to pick up your FREE Contract Campaign t-shirt! Purple up on Wednesdays and show your solidarity by wearing our t-shirts to events! \nStop by at any of our offices: \n\nSacramento: 1808 14th Street\, Sacramento\, CA 95811\nOakland: 436 14th Street\, Suite 200\, Oakland\, CA 94612\nFresno: 6725 N. Willow Avenue\, Suite 101\, Fresno\, CA 93710\nOntario: 1801 Excise Avenue\, Suite 101\, Ontario\, CA 91761\nNorwalk: 12501 Imperial Highway\, Suite 510\, Norwalk\, CA 90650\nSan Diego: 4004 Kearney Mesa Road\, San Diego\, CA 92111
URL:https://www.seiu1000.org/event/pick-up-a-free-t-shirt/
ATTACH;FMTTYPE=image/jpeg:https://www.seiu1000.org/wp-content/uploads/2026/04/DSC_5676-scaled.jpg
END:VEVENT
BEGIN:VEVENT
DTSTART;VALUE=DATE:20260416
DTEND;VALUE=DATE:20260417
DTSTAMP:20260422T054240
CREATED:20260327T183841Z
LAST-MODIFIED:20260327T183841Z
UID:10001754-1776297600-1776383999@www.seiu1000.org
SUMMARY:DLC 782 Monthly Tabling
DESCRIPTION:Join DLC 782 every third Thursday for tabling! Stop by\, get your questions answered\, and learn how to get involved! \nLocation:\nOffice of State Printers: 885 Riverside Parkway\, West Sacramento – Break Room \nTime:\n12:00pm-1:00pm\n5:00pm-6:00pm\n10:30pm-11:30pm
URL:https://www.seiu1000.org/event/dlc-782-monthly-tabling/2026-04-16/
ATTACH;FMTTYPE=image/webp:https://www.seiu1000.org/wp-content/uploads/2023/12/bargaining-unit1.webp
END:VEVENT
BEGIN:VEVENT
DTSTART;TZID=America/Los_Angeles:20260416T110000
DTEND;TZID=America/Los_Angeles:20260416T130000
DTSTAMP:20260422T054240
CREATED:20260312T223505Z
LAST-MODIFIED:20260312T224827Z
UID:10001707-1776337200-1776344400@www.seiu1000.org
SUMMARY:DLC 781 Monthly Union Meetings
DESCRIPTION:You’re invited to attend our monthly SEIU Local 1000 union meetings for DLC 781. These meetings are a great opportunity to get the latest contract bargaining updates\, connect with fellow state workers\, and learn how we’re fighting together for raises\, benefits\, and telework protections. \nLunch will be provided (RSVP required). The more employees who RSVP\, the better the lunch! \n\n	Notice: JavaScript is required for this content.\n\n\n    \n\n\n        \n        \n        \nWe hope to see you there as we continue to build member power and win a strong contract together. \nIf you have questions\, please contact: Azura Haley at ahaley@seiu1000.org \nIn Solidarity\nRamona Cramer\nDLC 781\, SEIU Local 1000
URL:https://www.seiu1000.org/event/dlc-781-monthly-union-meetings-2/2026-04-16/
ATTACH;FMTTYPE=image/webp:https://www.seiu1000.org/wp-content/uploads/2023/12/bargaining-unit1.webp
END:VEVENT
BEGIN:VEVENT
DTSTART;TZID=America/Los_Angeles:20260416T180000
DTEND;TZID=America/Los_Angeles:20260416T190000
DTSTAMP:20260422T054240
CREATED:20260121T230930Z
LAST-MODIFIED:20260121T231014Z
UID:10001327-1776362400-1776366000@www.seiu1000.org
SUMMARY:Steward Training - April Action Lab
DESCRIPTION:Finding and Growing Leaders at Your Worksite: It is a stewards’ role to identify other leaders in the worksite to grow our union\, but do you know what to look for\, or how to craft the right invitation to lead? This course will train stewards to recognize leadership potential in everyday members (especially those who don’t see themselves as leaders yet) and to practice inviting them to step up through small\, affirming\, low-barrier asks. \nRegister Here
URL:https://www.seiu1000.org/event/steward-training-april-action-lab/
ATTACH;FMTTYPE=image/png:https://www.seiu1000.org/wp-content/uploads/2025/03/Advanced-Stewared-Training-1-1.png
END:VEVENT
END:VCALENDAR