BEGIN:VCALENDAR
VERSION:2.0
PRODID:-//SEIU Local 1000 - ECPv6.15.20//NONSGML v1.0//EN
CALSCALE:GREGORIAN
METHOD:PUBLISH
X-WR-CALNAME:SEIU Local 1000
X-ORIGINAL-URL:https://www.seiu1000.org
X-WR-CALDESC:Events for SEIU Local 1000
REFRESH-INTERVAL;VALUE=DURATION:PT1H
X-Robots-Tag:noindex
X-PUBLISHED-TTL:PT1H
BEGIN:VTIMEZONE
TZID:America/Los_Angeles
BEGIN:DAYLIGHT
TZOFFSETFROM:-0800
TZOFFSETTO:-0700
TZNAME:PDT
DTSTART:20250309T100000
END:DAYLIGHT
BEGIN:STANDARD
TZOFFSETFROM:-0700
TZOFFSETTO:-0800
TZNAME:PST
DTSTART:20251102T090000
END:STANDARD
BEGIN:DAYLIGHT
TZOFFSETFROM:-0800
TZOFFSETTO:-0700
TZNAME:PDT
DTSTART:20260308T100000
END:DAYLIGHT
BEGIN:STANDARD
TZOFFSETFROM:-0700
TZOFFSETTO:-0800
TZNAME:PST
DTSTART:20261101T090000
END:STANDARD
BEGIN:DAYLIGHT
TZOFFSETFROM:-0800
TZOFFSETTO:-0700
TZNAME:PDT
DTSTART:20270314T100000
END:DAYLIGHT
BEGIN:STANDARD
TZOFFSETFROM:-0700
TZOFFSETTO:-0800
TZNAME:PST
DTSTART:20271107T090000
END:STANDARD
END:VTIMEZONE
BEGIN:VEVENT
DTSTART;VALUE=DATE:20260422
DTEND;VALUE=DATE:20260423
DTSTAMP:20260422T013803
CREATED:20260420T161752Z
LAST-MODIFIED:20260420T210830Z
UID:10001786-1776816000-1776902399@www.seiu1000.org
SUMMARY:🌎 Earth Day 2026: Show Up\, Get Outside\, Get Involved\, Give Back
DESCRIPTION:Earth Day is a chance to show up for your community and our environment. \nGo to our Environmental Committee page for event suggestions to get involved with this year’s Earth Day events. \n🌱 Small actions add up\n🌳 Greener neighborhoods strengthen communities \nFind a volunteer event\, bring a friend\, and get involved! \nhttps://www.seiu1000.org/earth-day-2026/
URL:https://www.seiu1000.org/event/earthday2026/
ATTACH;FMTTYPE=image/png:https://www.seiu1000.org/wp-content/uploads/2026/04/earth-day-Blog-Banner.png
END:VEVENT
BEGIN:VEVENT
DTSTART;TZID=America/Los_Angeles:20260422T100000
DTEND;TZID=America/Los_Angeles:20260422T120000
DTSTAMP:20260422T013803
CREATED:20260416T202526Z
LAST-MODIFIED:20260416T202526Z
UID:10001771-1776852000-1776859200@www.seiu1000.org
SUMMARY:DLC 744 Solidarity Action
DESCRIPTION:The State won’t back down from Return-to-Office. On Day 1 of bargaining\, let’s show them we say NO to RTO and YES to fair wages! \nOn Wednesday April 22\, wear your purple\, come to the lobby at 1515 Clay St at 10 am\, and let’s send a message! \nEvent Details:\n🗓️ Date:\nWednesday\, April 22 \n⏰ Time:\n10:00 AM \n📌 Location:\n1515 Clay St.\nIn the Lobby\nOakland\, CA 94612
URL:https://www.seiu1000.org/event/dlc-744-solidarity-action/
ATTACH;FMTTYPE=image/png:https://www.seiu1000.org/wp-content/uploads/2024/12/DLC-744-Featured-Image.png
END:VEVENT
BEGIN:VEVENT
DTSTART;TZID=America/Los_Angeles:20260422T110000
DTEND;TZID=America/Los_Angeles:20260422T130000
DTSTAMP:20260422T013803
CREATED:20260409T193351Z
LAST-MODIFIED:20260409T193351Z
UID:10001764-1776855600-1776862800@www.seiu1000.org
SUMMARY:Solidarity Walk to CalHR
DESCRIPTION:Led by DLC 764\, 762\, 765\, and 786\, join us for a member-led solidarity walk to kick off negotiations and send a clear message: we’re united\, we’re ready\, and we’re fighting for the contract we deserve. \n📍Time/Place: Capitol Park Rose Garden → CalHR \n\nMeet at the Capitol Park Rose Garden (15th St. & Capitol Ave.)\nArrive between 11:00 – 11:30 AM\nWalk starts at 12:00 PM\nDestination: CalHR (1810 16th St.)\n\n🤝 Optional: Meet us directly at CalHR from 12 – 12:15 PM if you’re unable to join our walk. \n👕 Throughout the week of April 13-17\, we invite you to stop by your nearest SEIU Local 1000 office from 10 AM to 5 PM to pick up your FREE Contract Campaign t-shirt and wear it to our solidarity walk!
URL:https://www.seiu1000.org/event/solidarity-walk-to-calhr/
ATTACH;FMTTYPE=image/png:https://www.seiu1000.org/wp-content/uploads/2026/04/Bargaining-Solidarity-Walk.png
END:VEVENT
BEGIN:VEVENT
DTSTART;TZID=America/Los_Angeles:20260422T113000
DTEND;TZID=America/Los_Angeles:20260422T140000
DTSTAMP:20260422T013803
CREATED:20260416T203234Z
LAST-MODIFIED:20260416T203338Z
UID:10001772-1776857400-1776866400@www.seiu1000.org
SUMMARY:DLC 784 - EDD Solidarity Break & Union Meeting
DESCRIPTION:Wear your union swag and meet us in the lobby at 11:30 AM! We want to show the state that we are union strong and sticking together as we start bargaining over our raises\, benefits\, and working conditions. Actions will be happening at worksites across California\, so don’t miss out! After our action\, we will be in the conference room until 2 PM for further discussion of contract bargaining and union updates. \n👉 Please RSVP for the EDD Purple Up Action to Azura Haley at ahaley@seiu1000.org and if you need a union shirt\, please be sure to include your t-shirt size. \nSEIU Local 1000 – DLC 784 \nEvent Details \n🗓️ Date:\nWednesday\, April 22 \n⏰ Time:\n11:30 AM – 2:00 PM \n📌 Location:\nEDD\n3704 Parkway Pl.\nWest Sacramento\, CA 95691 \n 
URL:https://www.seiu1000.org/event/dlc-784-edd-solidarity-break-union-meeting/
ATTACH;FMTTYPE=image/png:https://www.seiu1000.org/wp-content/uploads/2024/05/DLC-784-Featured-Image.png
END:VEVENT
BEGIN:VEVENT
DTSTART;TZID=America/Los_Angeles:20260422T120000
DTEND;TZID=America/Los_Angeles:20260422T130000
DTSTAMP:20260422T013803
CREATED:20260221T001709Z
LAST-MODIFIED:20260221T001757Z
UID:10001638-1776859200-1776862800@www.seiu1000.org
SUMMARY:DLC 782 Purple Up Solidarity Breaks & Steward Office Hours
DESCRIPTION:Join DLC 782 every Wednesday during lunch for virtual Purple Up Solidarity Breaks to learn\, share\, and connect with fellow workers. \nPURPLE UP SOLIDARITY BREAKS\nWhen: Every Wednesday from 12:00-12:30 PM (see below for Zoom info)\n• Short presentation & open discussion\n• Open to ALL workers (members and non-members) & no experience required \nSTEWARD OFFICE HOURS\nWhen: Every Wednesday from 12:30-1:00 PM (see below for Zoom info)\n• Drop in anytime to get support from union stewards\n• Ask questions & get help with finding and accessing resources \nZOOM INFO\nLink: https://tinyurl.com/seiu1000dlc782purpleup\n(password: purpleup) \nWhether you are new to unions or a longtime member\, this is our space to grow stronger together. Let’s build our collective power NOW to be UNITED and STRONG when our contract campaign kicks off in early 2026. Together we will win! \nEmail seiu1000dlc782@gmail.com with any questions
URL:https://www.seiu1000.org/event/dlc-782-purple-up-wednesdays/2026-04-22/
ATTACH;FMTTYPE=image/png:https://www.seiu1000.org/wp-content/uploads/2026/02/2025_DLC-782_PurpleUp_Banner.png
LOCATION:
END:VEVENT
BEGIN:VEVENT
DTSTART;TZID=America/Los_Angeles:20260422T120000
DTEND;TZID=America/Los_Angeles:20260422T130000
DTSTAMP:20260422T013803
CREATED:20260317T174633Z
LAST-MODIFIED:20260413T182743Z
UID:10001729-1776859200-1776862800@www.seiu1000.org
SUMMARY:DLC 784 Monthly Union Meeting
DESCRIPTION:Bring your lunch and join SEIU 1000 to get contract bargaining updates\, learn how we win our raises\, and how to get involved this year! Light snacks will be provided. All meetings can be joined via Zoom with in-person options rotating between worksites. \nThis month’s meeting in-person option is for those working onsite at EDD 3704 Parkway Pl. \nFuture meetings\, all can be joined via the same Zoom link: 5/27\, 6/24\, 7/22\, 8/26\, & 9/23 \n📌 Location:\nEDD\n3704 Parkway Pl.\nWest Sacramento\, CA 95691 \n💻 Virtual Meeting:\nZoom Link\nMeeting ID: 874 8597 5851\nPasscode: 845659
URL:https://www.seiu1000.org/event/dlc-784-monthly-union-meeting-apr26/
ATTACH;FMTTYPE=image/png:https://www.seiu1000.org/wp-content/uploads/2024/05/DLC-784-Featured-Image.png
LOCATION:https://us06web.zoom.us/j/87485975851?pwd=ig2bBJYxuMM21SdGzY0ueFZs183YSv.1
END:VEVENT
END:VCALENDAR